BEGIN:VCALENDAR
VERSION:2.0
PRODID:-//District of Columbia Academy of Family Physicians
CALSCALE:GREGORIAN
METHOD:PUBLISH
X-WR-CALNAME:District of Columbia Academy of Family Physicians
X-ORIGINAL-URL:https://dcafp.org/event/the-future-of-family-medicine/
X-WR-CALDESC:The Future of Family Medicine
BEGIN:VEVENT
DTSTART:20250731T080000
DTEND:20250802T170000
SUMMARY:The Future of Family Medicine
DESCRIPTION:The National Conference For The Future of Family Medicine 2025
LOCATION:Kansas City, MO
END:VEVENT
END:VCALENDAR
