BEGIN:VCALENDAR
VERSION:2.0
PRODID:-//District of Columbia Academy of Family Physicians
CALSCALE:GREGORIAN
METHOD:PUBLISH
X-WR-CALNAME:District of Columbia Academy of Family Physicians
X-ORIGINAL-URL:https://dcafp.org/event/dpc-summit/
X-WR-CALDESC:DPC Summit
BEGIN:VEVENT
DTSTART:20250624T080000
DTEND:20250627T170000
SUMMARY:DPC Summit
DESCRIPTION:DPC Summit
LOCATION:Hyatt Regency New Orleans | New Orleans, LA
END:VEVENT
END:VCALENDAR
