BEGIN:VCALENDAR
VERSION:2.0
PRODID:-//District of Columbia Academy of Family Physicians
CALSCALE:GREGORIAN
METHOD:PUBLISH
X-WR-CALNAME:District of Columbia Academy of Family Physicians
X-ORIGINAL-URL:https://dcafp.org/event/family-medicine-advocacy-summit/
X-WR-CALDESC:Family Medicine Advocacy Summit
BEGIN:VEVENT
DTSTART:20250622T080000
DTEND:20250624T170000
SUMMARY:Family Medicine Advocacy Summit
DESCRIPTION:Family Medicine Advocacy Summit

LOCATION:Marriott Marquis DC | Washington, DC
END:VEVENT
END:VCALENDAR
