BEGIN:VCALENDAR
VERSION:2.0
PRODID:-//District of Columbia Academy of Family Physicians
CALSCALE:GREGORIAN
METHOD:PUBLISH
X-WR-CALNAME:District of Columbia Academy of Family Physicians
X-ORIGINAL-URL:https://dcafp.org/event/stfm-conference/
X-WR-CALDESC:STFM Conference
BEGIN:VEVENT
DTSTART:20250503T080000
DTEND:20250507T170000
SUMMARY:STFM Conference
DESCRIPTION:2025 Annual Spring STFM Conference
LOCATION:Salt Lake City, UT
END:VEVENT
END:VCALENDAR
