BEGIN:VCALENDAR
VERSION:2.0
PRODID:-//District of Columbia Academy of Family Physicians
CALSCALE:GREGORIAN
METHOD:PUBLISH
X-WR-CALNAME:District of Columbia Academy of Family Physicians
X-ORIGINAL-URL:https://dcafp.org/event/annual-chapter-leader-forum-aclf/
X-WR-CALDESC:Annual Chapter Leader Forum (ACLF)
BEGIN:VEVENT
DTSTART:20250424T080000
DTEND:20250425T170000
SUMMARY:Annual Chapter Leader Forum (ACLF)
DESCRIPTION:Annual Chapter Leader Forum (ACLF)
LOCATION:Loews Kansas City Hotel | Kansas City, MO
END:VEVENT
END:VCALENDAR
