BEGIN:VCALENDAR
VERSION:2.0
PRODID:-//District of Columbia Academy of Family Physicians
CALSCALE:GREGORIAN
METHOD:PUBLISH
X-WR-CALNAME:District of Columbia Academy of Family Physicians
X-ORIGINAL-URL:https://dcafp.org/event/national-conference-of-constituency-leaders-nccl/
X-WR-CALDESC:National Conference of Constituency Leaders (NCCL)
BEGIN:VEVENT
DTSTART:20250424T080000
DTEND:20250426T170000
SUMMARY:National Conference of Constituency Leaders (NCCL)
DESCRIPTION:National Conference of Constituency Leaders (NCCL)
LOCATION:Loews Kansas City Hotel | Kansas City, MO
END:VEVENT
END:VCALENDAR
