BEGIN:VCALENDAR
VERSION:2.0
PRODID:-//District of Columbia Academy of Family Physicians
CALSCALE:GREGORIAN
METHOD:PUBLISH
X-WR-CALNAME:District of Columbia Academy of Family Physicians
X-ORIGINAL-URL:https://dcafp.org/event/2025-residency-leadership-summit/
X-WR-CALDESC:2025 Residency Leadership Summit
BEGIN:VEVENT
DTSTART:20250325T080000
DTEND:20250327T170000
SUMMARY:2025 Residency Leadership Summit
DESCRIPTION:2025 Residency Leadership Summit

LOCATION:Kansas City Marriott Downtown | Kansas City, MO
END:VEVENT
END:VCALENDAR
