BEGIN:VCALENDAR
VERSION:2.0
PRODID:-//District of Columbia Academy of Family Physicians
CALSCALE:GREGORIAN
METHOD:PUBLISH
X-WR-CALNAME:District of Columbia Academy of Family Physicians
X-ORIGINAL-URL:https://dcafp.org/event/2025-physician-health-and-well-being-conference/
X-WR-CALDESC:2025 Physician Health and Well-being Conference
BEGIN:VEVENT
DTSTART:20250324T080000
DTEND:20250326T170000
SUMMARY:2025 Physician Health and Well-being Conference
DESCRIPTION:2025 Physician Health and Well-being Conference
LOCATION:The Westin Hilton Head Island Resort & Spa | Hilton Head Island, SC 
END:VEVENT
END:VCALENDAR
