BEGIN:VCALENDAR
VERSION:2.0
PRODID:-//District of Columbia Academy of Family Physicians
CALSCALE:GREGORIAN
METHOD:PUBLISH
X-WR-CALNAME:District of Columbia Academy of Family Physicians
X-ORIGINAL-URL:https://dcafp.org/event/fmec-annual-meeting-3/
X-WR-CALDESC:FMEC Annual Meeting
BEGIN:VEVENT
DTSTART:20250918T090000
DTEND:20250920T170000
SUMMARY:FMEC Annual Meeting
DESCRIPTION:FMEC Annual Meeting
LOCATION:Huntington Convention Center | 300 Lakeside Avenue East  | Cleveland, OH, 44113
END:VEVENT
END:VCALENDAR
