BEGIN:VCALENDAR
VERSION:2.0
PRODID:-//District of Columbia Academy of Family Physicians
CALSCALE:GREGORIAN
METHOD:PUBLISH
X-WR-CALNAME:District of Columbia Academy of Family Physicians
X-ORIGINAL-URL:https://dcafp.org/event/aafp-congress-of-delegates-3/
X-WR-CALDESC:AAFP Congress of Delegates
BEGIN:VEVENT
DTSTART:20251004T080000
DTEND:20251006T170000
SUMMARY:AAFP Congress of Delegates
DESCRIPTION:AAFP Congress of Delegates
LOCATION:Anaheim Marriott | 700 West Convention Way | Anaheim, CA
END:VEVENT
END:VCALENDAR
