BEGIN:VCALENDAR
VERSION:2.0
PRODID:-//District of Columbia Academy of Family Physicians
CALSCALE:GREGORIAN
METHOD:PUBLISH
X-WR-CALNAME:District of Columbia Academy of Family Physicians
X-ORIGINAL-URL:https://dcafp.org/event/aafp-town-hall/
X-WR-CALDESC:AAFP Town Hall
BEGIN:VEVENT
DTSTART:20250820T190000
DTEND:20250820T203000
SUMMARY:AAFP Town Hall
DESCRIPTION:AAFP Town Hall: Supporting Rural Practices Through Education and Advocacy
LOCATION:Virtual
END:VEVENT
END:VCALENDAR
