BEGIN:VCALENDAR
VERSION:2.0
PRODID:-//District of Columbia Academy of Family Physicians
CALSCALE:GREGORIAN
METHOD:PUBLISH
X-WR-CALNAME:District of Columbia Academy of Family Physicians
X-ORIGINAL-URL:https://dcafp.org/event/research-and-abstract-writing-workshop/
X-WR-CALDESC:Research and Abstract Writing Workshop
BEGIN:VEVENT
DTSTART:20250828T183000
DTEND:20250828T193000
SUMMARY:Research and Abstract Writing Workshop
DESCRIPTION:RESEARCH and ABSTRACT WRITING WORKSHOP
LOCATION:Virtual
END:VEVENT
END:VCALENDAR
