BEGIN:VCALENDAR
VERSION:2.0
PRODID:-//District of Columbia Academy of Family Physicians
CALSCALE:GREGORIAN
METHOD:PUBLISH
X-WR-CALNAME:District of Columbia Academy of Family Physicians
X-ORIGINAL-URL:https://dcafp.org/event/dine-with-dcafp-at-the-greene-turtle/
X-WR-CALDESC:Dine With DCAFP at The Greene Turtle
BEGIN:VEVENT
DTSTART:20251001T113000
DTEND:20251001T233000
SUMMARY:Dine With DCAFP at The Greene Turtle
DESCRIPTION:DINE WITH DCAFP at THE GREENE TURTLE
LOCATION:1237 First Street SE Washington DC 20003
END:VEVENT
END:VCALENDAR
