BEGIN:VCALENDAR
VERSION:2.0
PRODID:-//District of Columbia Academy of Family Physicians
CALSCALE:GREGORIAN
METHOD:PUBLISH
X-WR-CALNAME:District of Columbia Academy of Family Physicians
X-ORIGINAL-URL:https://dcafp.org/event/2025-dcafp-annual-meeting/
X-WR-CALDESC:2025 DCAFP Annual Meeting
BEGIN:VEVENT
DTSTART:20251117T174500
DTEND:20251117T210000
SUMMARY:2025 DCAFP Annual Meeting
DESCRIPTION:The District of Columbia Academy of Family Physicians 2025 Annual Meeting
LOCATION:Chef Geoff's Restaurant - West End, 2201 M Street NW Washington DC 20037
END:VEVENT
END:VCALENDAR
